{
 "currentVersion": 11.3,
 "serviceDescription": "Ortho_23_SP",
 "name": "Ortho_23_SP",
 "description": "",
 "extent": {
  "xmin": 995150.2074347148,
  "ymin": 445269.0823998494,
  "xmax": 1001164.7074347148,
  "ymax": 456451.5823998494,
  "spatialReference": {
   "wkid": 2223,
   "latestWkid": 2223
  }
 },
 "initialExtent": {
  "xmin": 995150.2074347148,
  "ymin": 445269.0823998494,
  "xmax": 1001164.7074347148,
  "ymax": 456451.5823998494,
  "spatialReference": {
   "wkid": 2223,
   "latestWkid": 2223
  }
 },
 "fullExtent": {
  "xmin": 995150.2074347148,
  "ymin": 445269.0823998494,
  "xmax": 1001164.7074347148,
  "ymax": 456451.5823998494,
  "spatialReference": {
   "wkid": 2223,
   "latestWkid": 2223
  }
 },
 "sortableFields": "",
 "bandCount": 4,
 "pixelType": "U8",
 "minValues": [
  1,
  1,
  1,
  1
 ],
 "maxValues": [
  255,
  255,
  255,
  255
 ],
 "meanValues": [
  124.51887998143495,
  122.39283042155606,
  124.70006802227441,
  127.09364359247506
 ],
 "stdvValues": [
  57.91882128013695,
  55.40468815075328,
  50.82616479554117,
  51.711206647868835
 ],
 "hasMultidimensions": false,
 "pixelSizeX": 0.5,
 "pixelSizeY": 0.5,
 "meanPixelSize": 0.1524,
 "datasetFormat": "FGDBR",
 "uncompressedSize": 1076114340,
 "blockWidth": 128,
 "blockHeight": 128,
 "compressionType": "LZ77",
 "bandNames": [
  "Band_1",
  "Band_2",
  "Band_3",
  "Band_4"
 ],
 "allowCopy": true,
 "allowAnalysis": true,
 "itemAccess": false,
 "inspectionCapabilities": "",
 "minPixelSize": 0.48980010112798006,
 "maxPixelSize": 62.6944129634787,
 "copyrightText": "",
 "serviceDataType": "esriImageServiceDataTypeGeneric",
 "serviceSourceType": "esriImageServiceSourceTypeDataset",
 "objectIdField": "",
 "fields": [],
 "capabilities": "Image,Metadata,Mensuration",
 "defaultMosaicMethod": "Center",
 "allowedMosaicMethods": "",
 "sortField": "",
 "sortValue": null,
 "sortAscending": true,
 "mosaicOperator": "First",
 "defaultCompressionQuality": 75,
 "defaultResamplingMethod": "Bilinear",
 "maxImageHeight": 4100,
 "maxImageWidth": 15000,
 "singleFusedMapCache": true,
 "tileInfo": {
  "rows": 256,
  "cols": 256,
  "dpi": 96,
  "format": "MIXED",
  "compressionQuality": 75,
  "origin": {
   "x": -2.0037508342787E7,
   "y": 2.0037508342787E7
  },
  "spatialReference": {
   "wkid": 2223,
   "latestWkid": 2223
  },
  "lods": [
   {
    "level": 0,
    "resolution": 513592.6309973757,
    "scale": 5.91657527591555E8
   },
   {
    "level": 1,
    "resolution": 256796.31549868744,
    "scale": 2.95828763795777E8
   },
   {
    "level": 2,
    "resolution": 128398.15774934413,
    "scale": 1.47914381897889E8
   },
   {
    "level": 3,
    "resolution": 64199.078874671635,
    "scale": 7.3957190948944E7
   },
   {
    "level": 4,
    "resolution": 32099.539437335818,
    "scale": 3.6978595474472E7
   },
   {
    "level": 5,
    "resolution": 16049.769718667909,
    "scale": 1.8489297737236E7
   },
   {
    "level": 6,
    "resolution": 8024.884859333954,
    "scale": 9244648.868618
   },
   {
    "level": 7,
    "resolution": 4012.442429666977,
    "scale": 4622324.434309
   },
   {
    "level": 8,
    "resolution": 2006.2212148339229,
    "scale": 2311162.217155
   },
   {
    "level": 9,
    "resolution": 1003.1106074165273,
    "scale": 1155581.108577
   },
   {
    "level": 10,
    "resolution": 501.5553037086977,
    "scale": 577790.554289
   },
   {
    "level": 11,
    "resolution": 250.77765185391482,
    "scale": 288895.277144
   },
   {
    "level": 12,
    "resolution": 125.38882592695741,
    "scale": 144447.638572
   },
   {
    "level": 13,
    "resolution": 62.694412963478705,
    "scale": 72223.819286
   },
   {
    "level": 14,
    "resolution": 31.347206481739352,
    "scale": 36111.909643
   },
   {
    "level": 15,
    "resolution": 15.673603241303704,
    "scale": 18055.954822
   },
   {
    "level": 16,
    "resolution": 7.836801620651852,
    "scale": 9027.977411
   },
   {
    "level": 17,
    "resolution": 3.918400809891897,
    "scale": 4513.988705
   },
   {
    "level": 18,
    "resolution": 1.9592004053799774,
    "scale": 2256.994353
   },
   {
    "level": 19,
    "resolution": 0.9796002022559601,
    "scale": 1128.497176
   },
   {
    "level": 20,
    "resolution": 0.48980010112798006,
    "scale": 564.248588
   },
   {
    "level": 21,
    "resolution": 0.24490005056399003,
    "scale": 282.124294
   }
  ]
 },
 "storageInfo": {
  "storageFormat": "esriMapCacheStorageModeCompactV2",
  "packetSize": 128
 },
 "cacheType": "Map",
 "allowRasterFunction": true,
 "rasterFunctionInfos": [
  {
   "name": "None",
   "description": "",
   "help": ""
  }
 ],
 "rasterTypeInfos": [
  {
   "name": "Raster Dataset",
   "description": "Supports all ArcGIS Raster Datasets",
   "help": ""
  }
 ],
 "mensurationCapabilities": "Basic",
 "hasHistograms": true,
 "hasColormap": false,
 "hasRasterAttributeTable": false,
 "minScale": 72223.819286,
 "maxScale": 564.248588,
 "minLOD": 13,
 "maxLOD": 20,
 "exportTilesAllowed": false,
 "supportsStatistics": false,
 "supportsAdvancedQueries": false,
 "editFieldsInfo": null,
 "ownershipBasedAccessControlForRasters": null,
 "allowComputeTiePoints": false,
 "useStandardizedQueries": true,
 "advancedQueryCapabilities": {
  "useStandardizedQueries": true,
  "supportsStatistics": false,
  "supportsOrderBy": false,
  "supportsDistinct": false,
  "supportsPagination": false
 },
 "spatialReference": {
  "wkid": 2223,
  "latestWkid": 2223
 }
}
