<?xml version="1.0" encoding="UTF-8" standalone="no"?>
<metadata xml:lang="en">
<Esri>
<CreaDate>20170117</CreaDate>
<CreaTime>12512700</CreaTime>
<ArcGISFormat>1.0</ArcGISFormat>
<SyncOnce>FALSE</SyncOnce>
<DataProperties>
<lineage>
<Process Date="20170117" Time="125127" ToolSource="c:\program files (x86)\arcgis\desktop10.4\ArcToolbox\Toolboxes\Data Management Tools.tbx\CreateRasterDataset">CreateRasterDataset \\pdc-betagis2.catnet.arizona.edu\GIS\ortho\Ortho.gdb Ortho96 # 8_BIT_UNSIGNED # 1 # "PYRAMIDS -1 NEAREST DEFAULT 75 NO_SKIP" "128 128" LZ77 #</Process>
<Process Date="20170117" Time="131253" ToolSource="c:\program files (x86)\arcgis\desktop10.4\ArcToolbox\Toolboxes\Data Management Tools.tbx\Mosaic">Mosaic \\pdc-betagis2.catnet.arizona.edu\GIS\ortho\Ortho.gdb\Sht01;\\pdc-betagis2.catnet.arizona.edu\GIS\ortho\Ortho.gdb\Sht02;\\pdc-betagis2.catnet.arizona.edu\GIS\ortho\Ortho.gdb\Sht03;\\pdc-betagis2.catnet.arizona.edu\GIS\ortho\Ortho.gdb\Sht04;\\pdc-betagis2.catnet.arizona.edu\GIS\ortho\Ortho.gdb\Sht05;\\pdc-betagis2.catnet.arizona.edu\GIS\ortho\Ortho.gdb\Sht06;\\pdc-betagis2.catnet.arizona.edu\GIS\ortho\Ortho.gdb\Sht07;\\pdc-betagis2.catnet.arizona.edu\GIS\ortho\Ortho.gdb\Sht08;\\pdc-betagis2.catnet.arizona.edu\GIS\ortho\Ortho.gdb\Sht09;\\pdc-betagis2.catnet.arizona.edu\GIS\ortho\Ortho.gdb\Sht10;\\pdc-betagis2.catnet.arizona.edu\GIS\ortho\Ortho.gdb\Sht11;\\pdc-betagis2.catnet.arizona.edu\GIS\ortho\Ortho.gdb\Sht12;\\pdc-betagis2.catnet.arizona.edu\GIS\ortho\Ortho.gdb\Sht13;\\pdc-betagis2.catnet.arizona.edu\GIS\ortho\Ortho.gdb\Sht14;\\pdc-betagis2.catnet.arizona.edu\GIS\ortho\Ortho.gdb\Sht15;\\pdc-betagis2.catnet.arizona.edu\GIS\ortho\Ortho.gdb\Sht16;\\pdc-betagis2.catnet.arizona.edu\GIS\ortho\Ortho.gdb\Sht17;\\pdc-betagis2.catnet.arizona.edu\GIS\ortho\Ortho.gdb\Sht18;\\pdc-betagis2.catnet.arizona.edu\GIS\ortho\Ortho.gdb\Sht19;\\pdc-betagis2.catnet.arizona.edu\GIS\ortho\Ortho.gdb\Sht20;\\pdc-betagis2.catnet.arizona.edu\GIS\ortho\Ortho.gdb\Sht21;\\pdc-betagis2.catnet.arizona.edu\GIS\ortho\Ortho.gdb\SHT22;\\pdc-betagis2.catnet.arizona.edu\GIS\ortho\Ortho.gdb\SHT23;\\pdc-betagis2.catnet.arizona.edu\GIS\ortho\Ortho.gdb\SHT24;\\pdc-betagis2.catnet.arizona.edu\GIS\ortho\Ortho.gdb\SHT25;\\pdc-betagis2.catnet.arizona.edu\GIS\ortho\Ortho.gdb\SHT26;\\pdc-betagis2.catnet.arizona.edu\GIS\ortho\Ortho.gdb\SHT27;\\pdc-betagis2.catnet.arizona.edu\GIS\ortho\Ortho.gdb\SHT28;\\pdc-betagis2.catnet.arizona.edu\GIS\ortho\Ortho.gdb\SHT29;\\pdc-betagis2.catnet.arizona.edu\GIS\ortho\Ortho.gdb\SHT30;\\pdc-betagis2.catnet.arizona.edu\GIS\ortho\Ortho.gdb\SHT31;\\pdc-betagis2.catnet.arizona.edu\GIS\ortho\Ortho.gdb\Sht32;\\pdc-betagis2.catnet.arizona.edu\GIS\ortho\Ortho.gdb\SHT33;\\pdc-betagis2.catnet.arizona.edu\GIS\ortho\Ortho.gdb\SHT34;\\pdc-betagis2.catnet.arizona.edu\GIS\ortho\Ortho.gdb\SHT35;\\pdc-betagis2.catnet.arizona.edu\GIS\ortho\Ortho.gdb\SHT36;\\pdc-betagis2.catnet.arizona.edu\GIS\ortho\Ortho.gdb\Sht37;\\pdc-betagis2.catnet.arizona.edu\GIS\ortho\Ortho.gdb\SHT38;\\pdc-betagis2.catnet.arizona.edu\GIS\ortho\Ortho.gdb\SHT39;\\pdc-betagis2.catnet.arizona.edu\GIS\ortho\Ortho.gdb\SHT40;\\pdc-betagis2.catnet.arizona.edu\GIS\ortho\Ortho.gdb\SHT41;\\pdc-betagis2.catnet.arizona.edu\GIS\ortho\Ortho.gdb\SHT42;\\pdc-betagis2.catnet.arizona.edu\GIS\ortho\Ortho.gdb\SHT43;\\pdc-betagis2.catnet.arizona.edu\GIS\ortho\Ortho.gdb\SHT44;\\pdc-betagis2.catnet.arizona.edu\GIS\ortho\Ortho.gdb\SHT45;\\pdc-betagis2.catnet.arizona.edu\GIS\ortho\Ortho.gdb\Sht46 \\pdc-betagis2.catnet.arizona.edu\GIS\ortho\Ortho.gdb\Ortho96 LAST FIRST # # NONE 0 NONE</Process>
<Process Date="20170117" Time="132905" ToolSource="c:\program files (x86)\arcgis\desktop10.4\ArcToolbox\Toolboxes\Data Management Tools.tbx\Mosaic">Mosaic \\pdc-betagis2.catnet.arizona.edu\GIS\ortho\Ortho.gdb\Sht01;\\pdc-betagis2.catnet.arizona.edu\GIS\ortho\Ortho.gdb\Sht02;\\pdc-betagis2.catnet.arizona.edu\GIS\ortho\Ortho.gdb\Sht03;\\pdc-betagis2.catnet.arizona.edu\GIS\ortho\Ortho.gdb\Sht04;\\pdc-betagis2.catnet.arizona.edu\GIS\ortho\Ortho.gdb\Sht05;\\pdc-betagis2.catnet.arizona.edu\GIS\ortho\Ortho.gdb\Sht06;\\pdc-betagis2.catnet.arizona.edu\GIS\ortho\Ortho.gdb\Sht07;\\pdc-betagis2.catnet.arizona.edu\GIS\ortho\Ortho.gdb\Sht08;\\pdc-betagis2.catnet.arizona.edu\GIS\ortho\Ortho.gdb\Sht09;\\pdc-betagis2.catnet.arizona.edu\GIS\ortho\Ortho.gdb\Sht10;\\pdc-betagis2.catnet.arizona.edu\GIS\ortho\Ortho.gdb\Sht11;\\pdc-betagis2.catnet.arizona.edu\GIS\ortho\Ortho.gdb\Sht12;\\pdc-betagis2.catnet.arizona.edu\GIS\ortho\Ortho.gdb\Sht13;\\pdc-betagis2.catnet.arizona.edu\GIS\ortho\Ortho.gdb\Sht14;\\pdc-betagis2.catnet.arizona.edu\GIS\ortho\Ortho.gdb\Sht15;\\pdc-betagis2.catnet.arizona.edu\GIS\ortho\Ortho.gdb\Sht16;\\pdc-betagis2.catnet.arizona.edu\GIS\ortho\Ortho.gdb\Sht17;\\pdc-betagis2.catnet.arizona.edu\GIS\ortho\Ortho.gdb\Sht18;\\pdc-betagis2.catnet.arizona.edu\GIS\ortho\Ortho.gdb\Sht19;\\pdc-betagis2.catnet.arizona.edu\GIS\ortho\Ortho.gdb\Sht20;\\pdc-betagis2.catnet.arizona.edu\GIS\ortho\Ortho.gdb\Sht21;\\pdc-betagis2.catnet.arizona.edu\GIS\ortho\Ortho.gdb\SHT22;\\pdc-betagis2.catnet.arizona.edu\GIS\ortho\Ortho.gdb\SHT23;\\pdc-betagis2.catnet.arizona.edu\GIS\ortho\Ortho.gdb\SHT24;\\pdc-betagis2.catnet.arizona.edu\GIS\ortho\Ortho.gdb\SHT25;\\pdc-betagis2.catnet.arizona.edu\GIS\ortho\Ortho.gdb\SHT26;\\pdc-betagis2.catnet.arizona.edu\GIS\ortho\Ortho.gdb\SHT27;\\pdc-betagis2.catnet.arizona.edu\GIS\ortho\Ortho.gdb\SHT28;\\pdc-betagis2.catnet.arizona.edu\GIS\ortho\Ortho.gdb\SHT29;\\pdc-betagis2.catnet.arizona.edu\GIS\ortho\Ortho.gdb\SHT30;\\pdc-betagis2.catnet.arizona.edu\GIS\ortho\Ortho.gdb\SHT31;\\pdc-betagis2.catnet.arizona.edu\GIS\ortho\Ortho.gdb\Sht32;\\pdc-betagis2.catnet.arizona.edu\GIS\ortho\Ortho.gdb\SHT33;\\pdc-betagis2.catnet.arizona.edu\GIS\ortho\Ortho.gdb\SHT34;\\pdc-betagis2.catnet.arizona.edu\GIS\ortho\Ortho.gdb\SHT35;\\pdc-betagis2.catnet.arizona.edu\GIS\ortho\Ortho.gdb\Sht46;\\pdc-betagis2.catnet.arizona.edu\GIS\ortho\Ortho.gdb\SHT36;\\pdc-betagis2.catnet.arizona.edu\GIS\ortho\Ortho.gdb\Sht37;\\pdc-betagis2.catnet.arizona.edu\GIS\ortho\Ortho.gdb\SHT40;\\pdc-betagis2.catnet.arizona.edu\GIS\ortho\Ortho.gdb\SHT44;\\pdc-betagis2.catnet.arizona.edu\GIS\ortho\Ortho.gdb\SHT43;\\pdc-betagis2.catnet.arizona.edu\GIS\ortho\Ortho.gdb\SHT42;\\pdc-betagis2.catnet.arizona.edu\GIS\ortho\Ortho.gdb\SHT41;\\pdc-betagis2.catnet.arizona.edu\GIS\ortho\Ortho.gdb\SHT38;\\pdc-betagis2.catnet.arizona.edu\GIS\ortho\Ortho.gdb\SHT39;\\pdc-betagis2.catnet.arizona.edu\GIS\ortho\Ortho.gdb\SHT45 \\pdc-betagis2.catnet.arizona.edu\GIS\ortho\Ortho.gdb\Ortho96 LAST FIRST # # NONE 0 NONE</Process>
<Process Date="20170117" Time="135538" ToolSource="c:\program files (x86)\arcgis\desktop10.4\ArcToolbox\Toolboxes\Data Management Tools.tbx\CopyRaster">CopyRaster \\pdc-betagis2.catnet.arizona.edu\GIS\ortho\Ortho.gdb\Ortho96 \\pdc-betagis2.catnet.arizona.edu\GIS\ortho\Ortho.gdb\copy96 # # 256 NONE NONE # NONE NONE "IMAGINE Image" NONE</Process>
<Process Date="20170117" Time="151621" ToolSource="c:\program files (x86)\arcgis\desktop10.4\ArcToolbox\Toolboxes\Data Management Tools.tbx\Clip">Clip Ortho_96 "995464.698490813 446463.063648291 1001276.85137795 454158.202427819" \\pdc-betagis2.catnet.arizona.edu\GIS\ortho\Ortho.gdb\Ortho96 OrthoBoundary 256 NONE MAINTAIN_EXTENT</Process>
<Process Date="20170117" Time="152011" ToolSource="c:\program files (x86)\arcgis\desktop10.4\ArcToolbox\Toolboxes\Data Management Tools.tbx\Clip">Clip Ortho96 "995464.698490813 446463.063648291 1001276.85137795 454158.202427819" \\pdc-betagis2.catnet.arizona.edu\GIS\ortho\Ortho.gdb\Ortho96clip OrthoBoundary 256 ClippingGeometry MAINTAIN_EXTENT</Process>
</lineage>
<itemProps>
<itemName Sync="TRUE">Ortho96clip</itemName>
<imsContentType Sync="TRUE">002</imsContentType>
<nativeExtBox>
<westBL Sync="TRUE">995464.698491</westBL>
<eastBL Sync="TRUE">1001276.851378</eastBL>
<southBL Sync="TRUE">446463.063648</southBL>
<northBL Sync="TRUE">454158.202428</northBL>
<exTypeCode Sync="TRUE">1</exTypeCode>
</nativeExtBox>
<itemLocation>
<linkage Sync="TRUE">file://\\pdc-betagis2.catnet.arizona.edu\GIS\ortho\Ortho.gdb</linkage>
<protocol Sync="TRUE">Local Area Network</protocol>
</itemLocation>
</itemProps>
<coordRef>
<type Sync="TRUE">Projected</type>
<geogcsn Sync="TRUE">GCS_North_American_1983</geogcsn>
<csUnits Sync="TRUE">Linear Unit: Foot (0.304800)</csUnits>
<projcsn Sync="TRUE">NAD_1983_StatePlane_Arizona_Central_FIPS_0202_Feet_Intl</projcsn>
<peXml Sync="TRUE">&lt;ProjectedCoordinateSystem xsi:type='typens:ProjectedCoordinateSystem' xmlns:xsi='http://www.w3.org/2001/XMLSchema-instance' xmlns:xs='http://www.w3.org/2001/XMLSchema' xmlns:typens='http://www.esri.com/schemas/ArcGIS/10.4'&gt;&lt;WKT&gt;PROJCS[&amp;quot;NAD_1983_StatePlane_Arizona_Central_FIPS_0202_Feet_Intl&amp;quot;,GEOGCS[&amp;quot;GCS_North_American_1983&amp;quot;,DATUM[&amp;quot;D_North_American_1983&amp;quot;,SPHEROID[&amp;quot;GRS_1980&amp;quot;,6378137.0,298.257222101]],PRIMEM[&amp;quot;Greenwich&amp;quot;,0.0],UNIT[&amp;quot;Degree&amp;quot;,0.0174532925199433]],PROJECTION[&amp;quot;Transverse_Mercator&amp;quot;],PARAMETER[&amp;quot;False_Easting&amp;quot;,700000.0],PARAMETER[&amp;quot;False_Northing&amp;quot;,0.0],PARAMETER[&amp;quot;Central_Meridian&amp;quot;,-111.9166666666667],PARAMETER[&amp;quot;Scale_Factor&amp;quot;,0.9999],PARAMETER[&amp;quot;Latitude_Of_Origin&amp;quot;,31.0],UNIT[&amp;quot;Foot&amp;quot;,0.3048],AUTHORITY[&amp;quot;EPSG&amp;quot;,2223]]&lt;/WKT&gt;&lt;XOrigin&gt;-17746700&lt;/XOrigin&gt;&lt;YOrigin&gt;-44067300&lt;/YOrigin&gt;&lt;XYScale&gt;137254860.72514725&lt;/XYScale&gt;&lt;ZOrigin&gt;-100000&lt;/ZOrigin&gt;&lt;ZScale&gt;10000&lt;/ZScale&gt;&lt;MOrigin&gt;-100000&lt;/MOrigin&gt;&lt;MScale&gt;10000&lt;/MScale&gt;&lt;XYTolerance&gt;0.0032808398950131233&lt;/XYTolerance&gt;&lt;ZTolerance&gt;0.001&lt;/ZTolerance&gt;&lt;MTolerance&gt;0.001&lt;/MTolerance&gt;&lt;HighPrecision&gt;true&lt;/HighPrecision&gt;&lt;WKID&gt;2223&lt;/WKID&gt;&lt;LatestWKID&gt;2223&lt;/LatestWKID&gt;&lt;/ProjectedCoordinateSystem&gt;</peXml>
</coordRef>
</DataProperties>
<SyncDate>20170117</SyncDate>
<SyncTime>15195100</SyncTime>
<ModDate>20170117</ModDate>
<ModTime>15195100</ModTime>
</Esri>
<dataIdInfo>
<envirDesc Sync="TRUE"> Version 6.2 (Build 9200) ; Esri ArcGIS 10.4.1.5686</envirDesc>
<dataLang>
<languageCode Sync="TRUE" value="eng"/>
<countryCode Sync="TRUE" value="USA"/>
</dataLang>
<idCitation>
<resTitle Sync="TRUE">Ortho96</resTitle>
<presForm>
<PresFormCd Sync="TRUE" value="011"/>
</presForm>
</idCitation>
<spatRpType>
<SpatRepTypCd Sync="TRUE" value="002"/>
</spatRpType>
<dataExt>
<geoEle>
<GeoBndBox esriExtentType="search">
<exTypeCode Sync="TRUE">1</exTypeCode>
<westBL Sync="TRUE">-110.961202</westBL>
<eastBL Sync="TRUE">-110.942184</eastBL>
<northBL Sync="TRUE">32.244951</northBL>
<southBL Sync="TRUE">32.223657</southBL>
</GeoBndBox>
</geoEle>
</dataExt>
<idAbs/>
<idPurp/>
<idCredit/>
<resConst>
<Consts>
<useLimit/>
</Consts>
</resConst>
</dataIdInfo>
<mdLang>
<languageCode Sync="TRUE" value="eng"/>
<countryCode Sync="TRUE" value="USA"/>
</mdLang>
<distInfo>
<distFormat>
<formatName Sync="TRUE">File Geodatabase Raster Dataset</formatName>
</distFormat>
</distInfo>
<mdHrLv>
<ScopeCd Sync="TRUE" value="005"/>
</mdHrLv>
<mdHrLvName Sync="TRUE">dataset</mdHrLvName>
<refSysInfo>
<RefSystem>
<refSysID>
<identCode Sync="TRUE" code="2223"/>
<idCodeSpace Sync="TRUE">EPSG</idCodeSpace>
<idVersion Sync="TRUE">5.3(9.0.0)</idVersion>
</refSysID>
</RefSystem>
</refSysInfo>
<spdoinfo>
<rastinfo>
<rasttype Sync="TRUE">Pixel</rasttype>
<rowcount Sync="TRUE">38476</rowcount>
<colcount Sync="TRUE">29061</colcount>
<rastxsz Sync="TRUE">0.199998</rastxsz>
<rastysz Sync="TRUE">0.199998</rastysz>
<rastbpp Sync="TRUE">8</rastbpp>
<vrtcount Sync="TRUE">1</vrtcount>
<rastorig Sync="TRUE">Upper Left</rastorig>
<rastcmap Sync="TRUE">FALSE</rastcmap>
<rastcomp Sync="TRUE">LZ77</rastcomp>
<rastband Sync="TRUE">1</rastband>
<rastdtyp Sync="TRUE">pixel codes</rastdtyp>
<rastifor Sync="TRUE">FGDBR</rastifor>
<rastplyr Sync="TRUE">TRUE</rastplyr>
</rastinfo>
</spdoinfo>
<spref>
<horizsys>
<planar>
<planci>
<plance Sync="TRUE">row and column</plance>
<coordrep>
<absres Sync="TRUE">0.199998</absres>
<ordres Sync="TRUE">0.199998</ordres>
</coordrep>
</planci>
</planar>
</horizsys>
</spref>
<mdDateSt Sync="TRUE">20170117</mdDateSt>
</metadata>
